BEGIN:VCALENDAR
VERSION:2.0
PRODID:-//West Sedona Elementary School - ECPv6.15.17.1//NONSGML v1.0//EN
CALSCALE:GREGORIAN
METHOD:PUBLISH
X-WR-CALNAME:West Sedona Elementary School
X-ORIGINAL-URL:https://wss.sedonak12.org
X-WR-CALDESC:Events for West Sedona Elementary School
REFRESH-INTERVAL;VALUE=DURATION:PT1H
X-Robots-Tag:noindex
X-PUBLISHED-TTL:PT1H
BEGIN:VTIMEZONE
TZID:America/Phoenix
BEGIN:STANDARD
TZOFFSETFROM:-0700
TZOFFSETTO:-0700
TZNAME:MST
DTSTART:20250101T000000
END:STANDARD
END:VTIMEZONE
BEGIN:VEVENT
DTSTART;TZID=America/Phoenix:20260512T160000
DTEND;TZID=America/Phoenix:20260512T160000
DTSTAMP:20260424T071458
CREATED:20250809T021308Z
LAST-MODIFIED:20250809T021308Z
UID:10000048-1778601600-1778601600@wss.sedonak12.org
SUMMARY:Governing Board Meeting
DESCRIPTION:
URL:https://wss.sedonak12.org/calendar-event/governing-board-meeting-10
LOCATION:Sedona Performing Arts Center
END:VEVENT
BEGIN:VEVENT
DTSTART;VALUE=DATE:20260521
DTEND;VALUE=DATE:20260522
DTSTAMP:20260424T071458
CREATED:20250730T203708Z
LAST-MODIFIED:20250730T203708Z
UID:10000032-1779321600-1779407999@wss.sedonak12.org
SUMMARY:Early Release
DESCRIPTION:
URL:https://wss.sedonak12.org/calendar-event/early-release-5
END:VEVENT
BEGIN:VEVENT
DTSTART;VALUE=DATE:20260522
DTEND;VALUE=DATE:20260523
DTSTAMP:20260424T071458
CREATED:20250730T203806Z
LAST-MODIFIED:20250730T203806Z
UID:10000033-1779408000-1779494399@wss.sedonak12.org
SUMMARY:Early Release
DESCRIPTION:
URL:https://wss.sedonak12.org/calendar-event/early-release-6
END:VEVENT
BEGIN:VEVENT
DTSTART;VALUE=DATE:20260522
DTEND;VALUE=DATE:20260523
DTSTAMP:20260424T071458
CREATED:20250730T203859Z
LAST-MODIFIED:20250730T203859Z
UID:10000034-1779408000-1779494399@wss.sedonak12.org
SUMMARY:Quarter 4 Ends
DESCRIPTION:
URL:https://wss.sedonak12.org/calendar-event/quarter-4-ends
END:VEVENT
BEGIN:VEVENT
DTSTART;VALUE=DATE:20260522
DTEND;VALUE=DATE:20260523
DTSTAMP:20260424T071458
CREATED:20250730T203950Z
LAST-MODIFIED:20250730T203950Z
UID:10000035-1779408000-1779494399@wss.sedonak12.org
SUMMARY:Semester 2 Ends
DESCRIPTION:
URL:https://wss.sedonak12.org/calendar-event/semester-2-ends
END:VEVENT
BEGIN:VEVENT
DTSTART;VALUE=DATE:20260522
DTEND;VALUE=DATE:20260523
DTSTAMP:20260424T071458
CREATED:20250730T204041Z
LAST-MODIFIED:20250730T204041Z
UID:10000036-1779408000-1779494399@wss.sedonak12.org
SUMMARY:Last Day for Students
DESCRIPTION:
URL:https://wss.sedonak12.org/calendar-event/last-day-for-students
END:VEVENT
BEGIN:VEVENT
DTSTART;VALUE=DATE:20260526
DTEND;VALUE=DATE:20260527
DTSTAMP:20260424T071458
CREATED:20250730T204204Z
LAST-MODIFIED:20250730T204204Z
UID:10000037-1779753600-1779839999@wss.sedonak12.org
SUMMARY:Last Day for Staff
DESCRIPTION:
URL:https://wss.sedonak12.org/calendar-event/last-day-for-staff
END:VEVENT
BEGIN:VEVENT
DTSTART;TZID=America/Phoenix:20260609T160000
DTEND;TZID=America/Phoenix:20260609T160000
DTSTAMP:20260424T071458
CREATED:20250809T021420Z
LAST-MODIFIED:20250809T021420Z
UID:10000049-1781020800-1781020800@wss.sedonak12.org
SUMMARY:Governing Board Meeting
DESCRIPTION:
URL:https://wss.sedonak12.org/calendar-event/governing-board-meeting-11
LOCATION:Sedona Performing Arts Center
END:VEVENT
END:VCALENDAR